BEGIN:VCALENDAR
VERSION:2.0
PRODID:-//DestinyStar Int&#039;l Church, Houston Texas - ECPv6.8.1//NONSGML v1.0//EN
CALSCALE:GREGORIAN
METHOD:PUBLISH
X-ORIGINAL-URL:https://www.destinystar.org
X-WR-CALDESC:Events for DestinyStar Int&#039;l Church, Houston Texas
REFRESH-INTERVAL;VALUE=DURATION:PT1H
X-Robots-Tag:noindex
X-PUBLISHED-TTL:PT1H
BEGIN:VTIMEZONE
TZID:America/Chicago
BEGIN:DAYLIGHT
TZOFFSETFROM:-0600
TZOFFSETTO:-0500
TZNAME:CDT
DTSTART:20250309T080000
END:DAYLIGHT
BEGIN:STANDARD
TZOFFSETFROM:-0500
TZOFFSETTO:-0600
TZNAME:CST
DTSTART:20251102T070000
END:STANDARD
END:VTIMEZONE
BEGIN:VEVENT
DTSTART;TZID=America/Chicago:20250223T103000
DTEND;TZID=America/Chicago:20250223T130000
DTSTAMP:20260420T090749
CREATED:20250206T100800Z
LAST-MODIFIED:20250206T102013Z
UID:884-1740306600-1740315600@www.destinystar.org
SUMMARY:No More Toil – Breaking Through Financial Hardship
DESCRIPTION:Are you tired of financial struggles? Do you work hard but see little results? God never intended for you to toil in vain! It’s time to break free from the cycle of lack\, limitations\, and frustration. Join us for a powerful encounter that will set you on the path to financial freedom! \n📅 Date: February 23rd\, 2025\n⏰ Time: 10:30 AM\n📍 Venue: Destiny Star International Church\n🏢 Address: 16305 Westheimer Rd\, Suite 105\, Houston\, TX 77082 \n🎙️ Host: Pastor Gbenga Showunmi\n🎤 Guest Speaker: Pastor Dapo Wahab \n💰 NO MORE TOIL – BREAK FREE FROM FINANCIAL STRUGGLES! \nWhat to Expect:\n✅ Anointed teachings on breaking financial barriers and accessing divine provision\n✅ Prayers to unlock supernatural wealth and favor\n✅ Strategies for wealth creation and financial success\n✅ Powerful prophetic words for increase and restoration\n✅ Practical biblical principles for sustainable financial growth \nJoin Us In-Person or Online\n🔴 Watch Live on YouTube: @destinystarmedia\n🔵 Follow us on Facebook: @destinystarchurch \nNO MORE STRUGGLE. NO MORE LACK. NO MORE TOIL!\n✔️ Are you burdened by debts and financial stress?\n✔️ Do you desire open doors\, divine connections\, and supernatural abundance?\n✔️ Are you ready to move from survival to overflow? \nCome expectant! This is your time to step into a new realm of supernatural financial breakthroughs! \nDeclare It Loud: NO MORE TOIL! \nInvite your friends\, family\, and loved ones. Your breakthrough is here!
URL:https://www.destinystar.org/event/no-more-toil-breaking-through-financial-hardship/
LOCATION:DestinyStar International Church\, 16305 Westheimer Road Suite 105\, Houston\, TX\, 77082\, United States
CATEGORIES:Special Occations
ATTACH;FMTTYPE=image/jpeg:https://www.destinystar.org/wp-content/uploads/2025/02/no-more-toil-screen.jpg
END:VEVENT
END:VCALENDAR