BEGIN:VCALENDAR
VERSION:2.0
PRODID:-//DestinyStar Int&#039;l Church, Houston Texas - ECPv6.8.1//NONSGML v1.0//EN
CALSCALE:GREGORIAN
METHOD:PUBLISH
X-ORIGINAL-URL:https://www.destinystar.org
X-WR-CALDESC:Events for DestinyStar Int&#039;l Church, Houston Texas
REFRESH-INTERVAL;VALUE=DURATION:PT1H
X-Robots-Tag:noindex
X-PUBLISHED-TTL:PT1H
BEGIN:VTIMEZONE
TZID:America/Chicago
BEGIN:DAYLIGHT
TZOFFSETFROM:-0600
TZOFFSETTO:-0500
TZNAME:CDT
DTSTART:20250309T080000
END:DAYLIGHT
BEGIN:STANDARD
TZOFFSETFROM:-0500
TZOFFSETTO:-0600
TZNAME:CST
DTSTART:20251102T070000
END:STANDARD
END:VTIMEZONE
BEGIN:VEVENT
DTSTART;TZID=America/Chicago:20250301T080000
DTEND;TZID=America/Chicago:20250331T170000
DTSTAMP:20260420T075912
CREATED:20250206T101013Z
LAST-MODIFIED:20250206T101936Z
UID:886-1740816000-1743440400@www.destinystar.org
SUMMARY:31 Days Breakthrough Prayer Encounter – DOMINION
DESCRIPTION:Are you ready to take charge of your destiny? March is your month of DOMINION! God has called you to reign\, not to struggle! Join us for 31 days of intense\, life-changing prayers that will break limitations\, destroy strongholds\, and position you for divine elevation. You were created to rule and reign! \nTHIS IS YOUR SEASON OF DOMINION!\n✔️ Are you tired of fighting the same battles year after year?\n✔️ Do you desire to walk in divine power and authority?\n✔️ Do you want to see tangible breakthroughs in your finances\, health\, family\, and career? \n📅 Date: March 1st – 31st\, 2025\n⏰ Time: 8:00 PM – 9:00 PM (Daily)\n📍 Location: Online (Live Streaming)\n🎙️ Host: Pastor Gbenga Showunmi \nTHEME: DOMINION – TAKE CHARGE OF YOUR DESTINY! \nWhat to Expect:\n✅ Life-changing prayers that will shift you into your next level\n✅ Prophetic declarations to establish dominion over every aspect of your life\n✅ Breaking limitations\, overcoming stagnation\, and stepping into divine authority\n✅ Supernatural encounters that will bring clarity\, direction\, and breakthroughs\n✅ Testimonies of transformation\, healing\, and divine intervention \nHow to Join:\n🔴 Watch Live on YouTube: @destinystarmedia\n🔵 Follow us on Facebook: @destinystarchurch \nThen don’t miss a single day! Set your alarms\, invite your family and friends\, and get ready to TAKE CHARGE OF YOUR DESTINY! \nMarch 2025 is your season of DOMINION!
URL:https://www.destinystar.org/event/31-days-breakthrough-prayer-encounter-dominion/
LOCATION:DestinyStar International Church\, 16305 Westheimer Road Suite 105\, Houston\, TX\, 77082\, United States
CATEGORIES:Special Occations
ATTACH;FMTTYPE=image/jpeg:https://www.destinystar.org/wp-content/uploads/2025/02/DOMINION-SCREEN-1.jpg
END:VEVENT
END:VCALENDAR