BEGIN:VCALENDAR
VERSION:2.0
PRODID:-//DestinyStar Int&#039;l Church, Houston Texas - ECPv6.8.1//NONSGML v1.0//EN
CALSCALE:GREGORIAN
METHOD:PUBLISH
X-ORIGINAL-URL:https://www.destinystar.org
X-WR-CALDESC:Events for DestinyStar Int&#039;l Church, Houston Texas
REFRESH-INTERVAL;VALUE=DURATION:PT1H
X-Robots-Tag:noindex
X-PUBLISHED-TTL:PT1H
BEGIN:VTIMEZONE
TZID:UTC
BEGIN:STANDARD
TZOFFSETFROM:+0000
TZOFFSETTO:+0000
TZNAME:UTC
DTSTART:20250101T000000
END:STANDARD
TZID:America/New_York
BEGIN:DAYLIGHT
TZOFFSETFROM:-0500
TZOFFSETTO:-0400
TZNAME:EDT
DTSTART:20250309T070000
END:DAYLIGHT
BEGIN:STANDARD
TZOFFSETFROM:-0400
TZOFFSETTO:-0500
TZNAME:EST
DTSTART:20251102T060000
END:STANDARD
END:VTIMEZONE
BEGIN:VEVENT
DTSTART;TZID=UTC:20250420T103000
DTEND;TZID=UTC:20250420T123000
DTSTAMP:20260420T062010
CREATED:20250325T162815Z
LAST-MODIFIED:20250325T162815Z
UID:896-1745145000-1745152200@www.destinystar.org
SUMMARY:EASTER WORSHIP SERVICE – A Celebration of Victory!
DESCRIPTION:He is Risen – Let’s Worship Together! \nEaster is more than just a season – it’s a powerful reminder of God’s love\, victory\, and resurrection power! Join us for an extraordinary worship experience as we celebrate the risen King in a service filled with praise\, power\, and the presence of God! \n📅 Date: Sunday\, April 20\, 2025\n📍 Venue: 16305 Westheimer Rd\, Suite 105\, Houston\, TX 77082\n⏰ Time: 10:30 AM \nWhat to Expect:\n🎵 Soul-Lifting Worship with Minister Sandra Martins\n🔥 Anointed Word & Prophetic Impartation by Pastors Victoria & Gbenga Showunmi\n🙏🏽 A Time of Celebration & Spiritual Renewal \nCome expectant\, come ready – let’s worship the King together! \n📺 Can’t join us in person? Watch live on YouTube & Facebook – @destinystarmedia \n📢 Spread the Good News! Invite your family and friends to this life-changing Easter encounter!
URL:https://www.destinystar.org/event/easter-worship-service-a-celebration-of-victory/
LOCATION:DestinyStar International Church\, 16305 Westheimer Road Suite 105\, Houston\, TX\, 77082\, United States
CATEGORIES:Special Occations
ATTACH;FMTTYPE=image/jpeg:https://www.destinystar.org/wp-content/uploads/2025/03/EASTER-WORSHIP-SCREEN.jpg
END:VEVENT
BEGIN:VEVENT
DTSTART;TZID=America/New_York:20250426T100000
DTEND;TZID=America/New_York:20250426T130000
DTSTAMP:20260420T062010
CREATED:20250325T162459Z
LAST-MODIFIED:20250325T162459Z
UID:897-1745661600-1745672400@www.destinystar.org
SUMMARY:Achievers Ladies Conference – "Elevate"
DESCRIPTION:Ladies\, it’s time to rise\, thrive\, and elevate to your next level!\n\n\n\nJoin Victoria Achievers Club and DestinyStar International Church for an unforgettable day of empowerment\, faith\, and transformation at ELEVATE 2025!\n\n\n\nDate: Saturday\, April 26th\, 2025\nTime: 10:00 AM Prompt\nVenue: 16305 Westheimer Rd\, Suite 105\, Houston\, TX 77082\n\n\n\nBe inspired by powerful women of influence who will equip you with wisdom\, strategies\, and divine insights for success!\n\n\n\n Speakers:\n Pst. Victoria Showunmi (Convener)\n Emem Washington\n Dr. Alice Ajim\n\n\n\n Panelists:\n Lyndsey Brantley\n Adedapo Lipede\n Edith Declan\n Foluso Faseyitan\n\n\n\nEarly Bird Registration: $47 (Secure your spot now!)\n\n\n Price increases to $65 after April 7th – Don’t wait!\n\n\n\nRegister Now Via: https://buy.stripe.com/00g16a7CrgXQ5GgaER\n\n\n\nGet ready to step into your God-given greatness!\n\n\n\nRegister now and invite a sister to join you!\n\n\n\nReach Out:\n +1 (631) 741 0795\n victoria@vachieversclub.com
URL:https://www.destinystar.org/event/achievers-ladies-conference-elevate/
LOCATION:DestinyStar International Church\, 16305 Westheimer Road Suite 105\, Houston\, TX\, 77082\, United States
CATEGORIES:Special Occations
ATTACH;FMTTYPE=image/jpeg:https://www.destinystar.org/wp-content/uploads/2025/03/ACHIEVERS-LADIES-CONFERENCE-SCREEN-scaled.jpg
END:VEVENT
END:VCALENDAR